BEGIN:VCALENDAR
VERSION:2.0
PRODID:icalendar-ruby
CALSCALE:GREGORIAN
METHOD:PUBLISH
BEGIN:VEVENT
DTSTAMP:20260423T045902Z
UID:21-888889@rocklanechristian.org
DTSTART:20260723T143000Z
DTEND:20260723T153000Z
CLASS:PUBLIC
CREATED:20260422T231933
DESCRIPTION:Rocklane Fit is designed to increase muscle strength\, range of
  movement and improve activities for daily living. A chair is used for se
 ated exercises and standing support and classes are modified depending on 
 fitness levels.\nNo registration or equipment needed\, just show up! Ente
 r through Door D.  \nMeeting times are Tuesday and Thursday mornings\, 1
 0:30-11:30 am.
LAST-MODIFIED:20260422T231933
LOCATION:
SUMMARY:Rocklane Fit
URL;VALUE=URI:https://www.rocklanechristian.org/events/rocklane-fit--21/202
 6-07-23
ATTACH;FILENAME=imgi_5_9e8e7840-96f7-4eaf-bdb7-1b9296b538e3.png;FMTTYPE=ima
 ge/png:https://dq5pwpg1q8ru0.cloudfront.net/2025/10/06/16/14/02/e526c771-e
 65d-417b-917c-2a5766bddc29/imgi_5_9e8e7840-96f7-4eaf-bdb7-1b9296b538e3.png
END:VEVENT
END:VCALENDAR
